BEGIN:VCALENDAR
VERSION:2.0
PRODID:-//US Youth Soccer - ECPv6.15.17.1//NONSGML v1.0//EN
CALSCALE:GREGORIAN
METHOD:PUBLISH
X-ORIGINAL-URL:https://www.usyouthsoccer.org
X-WR-CALDESC:Events for US Youth Soccer
REFRESH-INTERVAL;VALUE=DURATION:PT1H
X-Robots-Tag:noindex
X-PUBLISHED-TTL:PT1H
BEGIN:VTIMEZONE
TZID:America/Phoenix
BEGIN:STANDARD
TZOFFSETFROM:-0700
TZOFFSETTO:-0700
TZNAME:MST
DTSTART:20230101T000000
END:STANDARD
END:VTIMEZONE
BEGIN:VEVENT
DTSTART;VALUE=DATE:20241206
DTEND;VALUE=DATE:20241210
DTSTAMP:20260420T014545
CREATED:20241003T205749Z
LAST-MODIFIED:20241003T211344Z
UID:10000052-1733443200-1733788799@www.usyouthsoccer.org
SUMMARY:2024 NL Quarterfinals (Boys)
DESCRIPTION:
URL:https://www.usyouthsoccer.org/event/2024-nl-quarterfinals-boys-2/
LOCATION:Arizona Athletic Grounds\, 6321 S Ellsworth Rd\, Mesa\, AZ\, 85212\, United States
CATEGORIES:National League,US Youth Soccer
ATTACH;FMTTYPE=image/png:https://www.usyouthsoccer.org/wp-content/uploads/sites/160/2024/10/NL-Events.png
END:VEVENT
BEGIN:VEVENT
DTSTART;VALUE=DATE:20241213
DTEND;VALUE=DATE:20241217
DTSTAMP:20260420T014545
CREATED:20241003T205818Z
LAST-MODIFIED:20241003T211333Z
UID:10000053-1734048000-1734393599@www.usyouthsoccer.org
SUMMARY:2024 NL Quarterfinals (Girls)
DESCRIPTION:
URL:https://www.usyouthsoccer.org/event/2024-nl-quarterfinals-girls-2/
LOCATION:Arizona Athletic Grounds\, 6321 S Ellsworth Rd\, Mesa\, AZ\, 85212\, United States
CATEGORIES:National League,US Youth Soccer
ATTACH;FMTTYPE=image/png:https://www.usyouthsoccer.org/wp-content/uploads/sites/160/2024/10/NL-Events.png
END:VEVENT
END:VCALENDAR