BEGIN:VCALENDAR
VERSION:2.0
PRODID:-//US Youth Soccer - ECPv6.15.17.1//NONSGML v1.0//EN
CALSCALE:GREGORIAN
METHOD:PUBLISH
X-WR-CALNAME:US Youth Soccer
X-ORIGINAL-URL:https://www.usyouthsoccer.org
X-WR-CALDESC:Events for US Youth Soccer
REFRESH-INTERVAL;VALUE=DURATION:PT1H
X-Robots-Tag:noindex
X-PUBLISHED-TTL:PT1H
BEGIN:VTIMEZONE
TZID:America/Phoenix
BEGIN:STANDARD
TZOFFSETFROM:-0700
TZOFFSETTO:-0700
TZNAME:MST
DTSTART:20240101T000000
END:STANDARD
END:VTIMEZONE
BEGIN:VEVENT
DTSTART;VALUE=DATE:20250117
DTEND;VALUE=DATE:20250122
DTSTAMP:20260420T034514
CREATED:20241003T205959Z
LAST-MODIFIED:20241003T211503Z
UID:10000055-1737072000-1737503999@www.usyouthsoccer.org
SUMMARY:2025 NL Quarterfinals (Boys)
DESCRIPTION:
URL:https://www.usyouthsoccer.org/event/2025-nl-quarterfinals-boys/
LOCATION:Arizona Athletic Grounds\, 6321 S Ellsworth Rd\, Mesa\, AZ\, 85212\, United States
CATEGORIES:National League,US Youth Soccer
ATTACH;FMTTYPE=image/png:https://www.usyouthsoccer.org/wp-content/uploads/sites/160/2024/10/NL-Events.png
END:VEVENT
END:VCALENDAR