BEGIN:VCALENDAR
VERSION:2.0
PRODID:-//US Youth Soccer - ECPv6.15.17.1//NONSGML v1.0//EN
CALSCALE:GREGORIAN
METHOD:PUBLISH
X-WR-CALNAME:US Youth Soccer
X-ORIGINAL-URL:https://www.usyouthsoccer.org
X-WR-CALDESC:Events for US Youth Soccer
REFRESH-INTERVAL;VALUE=DURATION:PT1H
X-Robots-Tag:noindex
X-PUBLISHED-TTL:PT1H
BEGIN:VTIMEZONE
TZID:America/Phoenix
BEGIN:STANDARD
TZOFFSETFROM:-0700
TZOFFSETTO:-0700
TZNAME:MST
DTSTART:20230101T000000
END:STANDARD
END:VTIMEZONE
BEGIN:VTIMEZONE
TZID:America/North_Dakota/New_Salem
BEGIN:DAYLIGHT
TZOFFSETFROM:-0600
TZOFFSETTO:-0500
TZNAME:CDT
DTSTART:20230312T080000
END:DAYLIGHT
BEGIN:STANDARD
TZOFFSETFROM:-0500
TZOFFSETTO:-0600
TZNAME:CST
DTSTART:20231105T070000
END:STANDARD
BEGIN:DAYLIGHT
TZOFFSETFROM:-0600
TZOFFSETTO:-0500
TZNAME:CDT
DTSTART:20240310T080000
END:DAYLIGHT
BEGIN:STANDARD
TZOFFSETFROM:-0500
TZOFFSETTO:-0600
TZNAME:CST
DTSTART:20241103T070000
END:STANDARD
BEGIN:DAYLIGHT
TZOFFSETFROM:-0600
TZOFFSETTO:-0500
TZNAME:CDT
DTSTART:20250309T080000
END:DAYLIGHT
BEGIN:STANDARD
TZOFFSETFROM:-0500
TZOFFSETTO:-0600
TZNAME:CST
DTSTART:20251102T070000
END:STANDARD
END:VTIMEZONE
BEGIN:VEVENT
DTSTART;VALUE=DATE:20241101
DTEND;VALUE=DATE:20241106
DTSTAMP:20260419T224245
CREATED:20241003T203014Z
LAST-MODIFIED:20241003T211355Z
UID:10000050-1730419200-1730851199@www.usyouthsoccer.org
SUMMARY:2024 NL Quarterfinals (Boys)
DESCRIPTION:
URL:https://www.usyouthsoccer.org/event/2024-nl-quarterfinals-boys/
LOCATION:Arizona Athletic Grounds\, 6321 S Ellsworth Rd\, Mesa\, AZ\, 85212\, United States
CATEGORIES:National League,US Youth Soccer
ATTACH;FMTTYPE=image/png:https://www.usyouthsoccer.org/wp-content/uploads/sites/160/2024/10/NL-Events.png
END:VEVENT
BEGIN:VEVENT
DTSTART;VALUE=DATE:20240503
DTEND;VALUE=DATE:20240508
DTSTAMP:20260419T224245
CREATED:20240111T190954Z
LAST-MODIFIED:20240111T192459Z
UID:10000027-1714694400-1715126399@www.usyouthsoccer.org
SUMMARY:National League P.R.O. – California
DESCRIPTION:Event Details
URL:https://www.usyouthsoccer.org/event/national-league-p-r-o-california/
LOCATION:AZ
CATEGORIES:National League,US Youth Soccer
END:VEVENT
BEGIN:VEVENT
DTSTART;VALUE=DATE:20240223
DTEND;VALUE=DATE:20240228
DTSTAMP:20260419T224245
CREATED:20240111T190707Z
LAST-MODIFIED:20240111T192344Z
UID:10000026-1708646400-1709078399@www.usyouthsoccer.org
SUMMARY:National League P.R.O. – Florida
DESCRIPTION:Event Details
URL:https://www.usyouthsoccer.org/event/national-league-p-r-o-florida/
LOCATION:AZ
CATEGORIES:National League,US Youth Soccer
END:VEVENT
BEGIN:VEVENT
DTSTART;VALUE=DATE:20240126
DTEND;VALUE=DATE:20240131
DTSTAMP:20260419T224245
CREATED:20240111T190605Z
LAST-MODIFIED:20240111T192339Z
UID:10000025-1706227200-1706659199@www.usyouthsoccer.org
SUMMARY:Elite 64 Playoffs – Florida (Boys)
DESCRIPTION:Event Details
URL:https://www.usyouthsoccer.org/event/elite-64-playoffs-florida-boys/
LOCATION:AZ
CATEGORIES:National League,US Youth Soccer
END:VEVENT
BEGIN:VEVENT
DTSTART;VALUE=DATE:20240119
DTEND;VALUE=DATE:20240124
DTSTAMP:20260419T224245
CREATED:20240111T185807Z
LAST-MODIFIED:20240111T192335Z
UID:10000024-1705622400-1706054399@www.usyouthsoccer.org
SUMMARY:Elite 64 Playoffs – Florida (Girls)
DESCRIPTION:Event Details
URL:https://www.usyouthsoccer.org/event/elite-64-playoffs-florida-girls/
LOCATION:AZ
CATEGORIES:National League,US Youth Soccer
END:VEVENT
END:VCALENDAR