BEGIN:VCALENDAR
VERSION:2.0
PRODID:-//US Youth Soccer - ECPv6.15.17.1//NONSGML v1.0//EN
CALSCALE:GREGORIAN
METHOD:PUBLISH
X-ORIGINAL-URL:https://www.usyouthsoccer.org
X-WR-CALDESC:Events for US Youth Soccer
REFRESH-INTERVAL;VALUE=DURATION:PT1H
X-Robots-Tag:noindex
X-PUBLISHED-TTL:PT1H
BEGIN:VTIMEZONE
TZID:UTC
BEGIN:STANDARD
TZOFFSETFROM:+0000
TZOFFSETTO:+0000
TZNAME:UTC
DTSTART:20220101T000000
END:STANDARD
END:VTIMEZONE
BEGIN:VTIMEZONE
TZID:America/North_Dakota/New_Salem
BEGIN:DAYLIGHT
TZOFFSETFROM:-0600
TZOFFSETTO:-0500
TZNAME:CDT
DTSTART:20230312T080000
END:DAYLIGHT
BEGIN:STANDARD
TZOFFSETFROM:-0500
TZOFFSETTO:-0600
TZNAME:CST
DTSTART:20231105T070000
END:STANDARD
BEGIN:DAYLIGHT
TZOFFSETFROM:-0600
TZOFFSETTO:-0500
TZNAME:CDT
DTSTART:20240310T080000
END:DAYLIGHT
BEGIN:STANDARD
TZOFFSETFROM:-0500
TZOFFSETTO:-0600
TZNAME:CST
DTSTART:20241103T070000
END:STANDARD
BEGIN:DAYLIGHT
TZOFFSETFROM:-0600
TZOFFSETTO:-0500
TZNAME:CDT
DTSTART:20250309T080000
END:DAYLIGHT
BEGIN:STANDARD
TZOFFSETFROM:-0500
TZOFFSETTO:-0600
TZNAME:CST
DTSTART:20251102T070000
END:STANDARD
END:VTIMEZONE
BEGIN:VEVENT
DTSTART;VALUE=DATE:20240124
DTEND;VALUE=DATE:20240129
DTSTAMP:20260422T125353
CREATED:20230818T230550Z
LAST-MODIFIED:20230926T162855Z
UID:10000014-1706054400-1706486399@www.usyouthsoccer.org
SUMMARY:2024 Boys ODP Interregionals
DESCRIPTION:WEDNESDAY\, JANUARY 24\, 2024 – SUNDAY\, JANUARY 28\, 2024\nAll Day Event\n\n\nLocation: Orlando\, FL \nPlease contact Aaron Heffernan\, Senior Manager of ODP\, if you have any questions.
URL:https://www.usyouthsoccer.org/event/2024-boys-odp-interregionals/
CATEGORIES:East Region,Midwest Region,ODP,South Region,US Youth Soccer,West Region
END:VEVENT
BEGIN:VEVENT
DTSTART;VALUE=DATE:20240118
DTEND;VALUE=DATE:20240123
DTSTAMP:20260422T125353
CREATED:20230818T230428Z
LAST-MODIFIED:20230926T162950Z
UID:10000013-1705536000-1705967999@www.usyouthsoccer.org
SUMMARY:2024 Girls ODP Interregionals
DESCRIPTION:THURSDAY\, JANUARY 18\, 2024 – MONDAY\, JANUARY 22\, 2024\nAll Day Event\n\n\nLocation: Orlando\, FL \nPlease contact Aaron Heffernan\, Senior Manager of ODP\, if you have any questions.
URL:https://www.usyouthsoccer.org/event/2024-girls-odp-interregionals/
CATEGORIES:East Region,Midwest Region,ODP,South Region,US Youth Soccer,West Region
END:VEVENT
BEGIN:VEVENT
DTSTART;VALUE=DATE:20240112
DTEND;VALUE=DATE:20240114
DTSTAMP:20260422T125353
CREATED:20231115T204140Z
LAST-MODIFIED:20240111T015511Z
UID:10000022-1705017600-1705190399@www.usyouthsoccer.org
SUMMARY:2024 US Youth Soccer Workshop at the United Soccer Coaches Convention
DESCRIPTION:FRIDAY\, JANUARY 12\, 2024 \n\n\n\n\nStart Time\nEnd Time\nRoom\nTopic\nPresenter\n\n\n\n\n9:15AM\n10:15AM\n202A\nBest Practices to Support Student Athlete Mental Wellness and Resilience\nTrueSport: Audrey Shaw (TrueSport Education Lead)\n\n\n9:15AM\n10:15AM\n202B\nCreating a Culture of Learning in Soccer\nEtrainu: Cameron O’Riordan\, Brendan Ryan\n\n\n9:15AM\n10:15AM\n203A\nWinning Off the Field: Business Principles for Youth Soccer\nPete Frintzilas (CEO and President\, TeamSnap) and\nGreg Ludke (SVP of Corporate Strategy\, TeamSnap)\n\n\n9:15AM\n10:15AM\n203B\nGovernance: Best Practices\nMcLean Youth Soccer: Louise Waxler (ED McLean Youth Soccer)\, Steve Gans (Partner\, Prince Lobel law firm)\n\n\n\n\nFRIDAY\, JANUARY 12\, 2024 \n\n\n\n\nStart Time\nEnd Time\nRoom\nTopic\nPresenter\n\n\n\n\n11:00AM\n12:00PM\n202A\nFundraising Part 1 – An Introduction to Successful Tactics for Soccer Organizations\nCOGEO: Rob Kusel (Managing Director of Consulting Services)\, Patrick Sampson (Chief Executive Officer)\, Victoria Ronga (Lead Consultant)\n\n\n11:00AM\n12:00PM\n202B\nAthlete Mental Health: What Coaches and Clubs can do to Support\nUS Center for Mental Health & Sport: Margaret Domka (Executive Director for the US Center for Mental Health & Sport) and Dr. Skye Arthur-Banning (Clemson University)\n\n\n11:00AM\n12:00PM\n203A\nMaking A Team: How to Increase Player Engagement Through Belonging\nUSYS – DEI: Dane Wolfrom & Marvin Jones\n\n\n11:00AM\n12:00PM\n203B\nRisk Management\, Leading a Safe Organization Through Insurance and Risk Management\nRisk Management: Dan Pullen (VP of Markets and Service) and Chris Pesigan (VP\, Insurance Brokerage Services)\n\n\n\n\nFRIDAY\, JANUARY 12\, 2024 \n\n\n\n\nStart Time\nEnd Time\nRoom\nTopic\nPresenter\n\n\n\n\n1:30PM\n2:30PM\n202A\nRisk Management: SafeSport Roundtable\nEric Williams (US Center for SafeSport-Deputy Vice President of Investigations)\n\n\n1:30PM\n2:30PM\n202B\nDeveloping Competitors Through Positive Coaching\nMarti Reed (Director of National Partnerships)\n\n\n1:30PM\n2:30PM\n203A\nMaking Decisions When It Comes to Diversity\nUSYS – DEI: Dane Wolfrom & Marvin Jones\n\n\n\n\nFRIDAY\, JANUARY 12\, 2024 \n\n\n\n\nStart Time\nEnd Time\nRoom\nTopic\nPresenter\n\n\n\n\n3:15PM\n4:15PM\n202A\nRisk Management\, Adjudication of SafeSport Reports (a case study)\nUSYS RM Committee & Bria Duvall (US Soccer Safe Sport Coordinator) & Ava Grafius (Manager of Safeguarding and Compliance)\n\n\n3:15PM\n4:15PM\n202B\nModern Digital Recruiting on a Budget\nNCSA: Sue Weber (Sr. Director)\, Jeremy Tosaya (Sr. Soccer Recruiting Coach)\n\n\n\n\nSATURDAY\, JANUARY 13\, 2024 \n\n\n\n\nStart Time\nEnd Time\nRoom\nTopic\nPresenter\n\n\n\n\n9:00AM\n10:00AM\n202A\nHealth Promotion and It’s Role in Player Retention\nHSS: Connor Duscha (Assistant Manager\, Athlete Health)\n\n\n9:00AM\n10:00AM\n202B\nNot Part of the Job Description: Why Parent Engagement needs to be viewed as a key component or Player Development\nSoccer Parenting: Anthony DiCicco (Key Partner Manager\, Soccer Parenting and The Sideline Project)\n\n\n\n\nSATURDAY\, JANUARY 13\, 2024 \n\n\n\n\nStart Time\nEnd Time\nRoom\nTopic\nPresenter\n\n\n\n\n11:00AM\n12:00PM\n202A\nFundraising Part 2 – Proven Case Studies for Soccer Clubs\, Leagues\, and Governing Bodies\nCOGEO: Rob Kusel (Managing Director of Consulting Services)\, Patrick Sampson (Chief Executive Officer)\, and Victoria Ronga (Lead Consultant)\n\n\n11:00AM\n12:00PM\n202B\nSolving Sideline Behavior: A Proven Solution\nSoccer Parenting: Skye Eddy (Founder Soccer Parenting and The Sideline Project)\n\n\n11:00AM\n12:00PM\n203A\nOperations & Legal Insights\nMcLean Youth Soccer: Louise Waxler (ED McLean Youth Soccer)\, Steve Gans (Partner\, Prince Lobel law firm)\n\n\n11:00AM\n12:00PM\n203B\nUnveiling Excellence – Holistic Development of your Referees\nOfficiating Collective: Ash Synnott\n\n\n\n\nSATURDAY\, JANUARY 13\, 2024 \n\n\n\n\nStart Time\nEnd Time\nRoom\nTopic\nPresenter\n\n\n\n\n1:30PM\n2:30PM\n202A\n‘Get Sandy with Us’ – A conversation about the benefits of Beach Soccer\nAli Hall (US Soccer)\, Louise Arseneault (US Soccer)\, Kierra Scalercio (US Soccer)\n\n\n1:30PM\n2:30PM\n203B\nSafeguarding your Athletes Beyond Abuse Reporting\nJosh Opiola & Charlie Wund.
URL:https://www.usyouthsoccer.org/event/2024-us-youth-soccer-workshop-at-the-united-soccer-coaches-convention/
CATEGORIES:East Region,Midwest Region,South Region,US Youth Soccer,West Region
ATTACH;FMTTYPE=image/png:https://www.usyouthsoccer.org/wp-content/uploads/sites/160/2023/11/UnitedSoccerCoaches-USYS-CoBranded-Logo-e1704725953898.png
END:VEVENT
BEGIN:VEVENT
DTSTART;VALUE=DATE:20230929
DTEND;VALUE=DATE:20231002
DTSTAMP:20260422T125353
CREATED:20230822T011549Z
LAST-MODIFIED:20230926T163126Z
UID:10000015-1695945600-1696204799@www.usyouthsoccer.org
SUMMARY:2023 US Youth Soccer Grassroots Symposium
DESCRIPTION:Building on the success of previous efforts to support and unite outreach organizations\, US Youth Soccer is excited to host the 2023 Grassroots Symposium in St. Paul\, Minnesota. \nBy uniting traditional soccer clubs\, leagues\, and associations with nonprofits that use soccer as a tool to positively impact the lives of young people and families in their communities\, the soccer community has developed actionable steps\, plans\, and processes to reduce the barrier of entry to quality soccer programming. \nThe 2023 Grassroots Symposium will build off the 15 years of crucial conversations which have led to dramatic shifts in the way that all young people have accessed the game. The event will continue to provide soccer practitioners (program administrators\, executive directors\, board members\, and coach trainers) tools to ensure programs are rooted in inclusivity and belonging. \nThe Symposium will serve to convene stakeholders across the board to connect traditional soccer programs and community-based organizations\, providing resources on how to amplify partnerships\, build relationships\, and create club communities where all young people can thrive. \nPlease check back regularly as more exciting content developments and event information will be released here! \nFor more information\, please reach out to Sari Rose\, srose@usyouthsoccer.org.
URL:https://www.usyouthsoccer.org/event/2023-us-youth-soccer-grassroots-symposium-2/
CATEGORIES:East Region,Midwest Region,South Region,West Region
END:VEVENT
END:VCALENDAR