BEGIN:VCALENDAR
VERSION:2.0
PRODID:-//US Youth Soccer - ECPv6.15.17.1//NONSGML v1.0//EN
CALSCALE:GREGORIAN
METHOD:PUBLISH
X-WR-CALNAME:US Youth Soccer
X-ORIGINAL-URL:https://www.usyouthsoccer.org
X-WR-CALDESC:Events for US Youth Soccer
REFRESH-INTERVAL;VALUE=DURATION:PT1H
X-Robots-Tag:noindex
X-PUBLISHED-TTL:PT1H
BEGIN:VTIMEZONE
TZID:America/North_Dakota/New_Salem
BEGIN:DAYLIGHT
TZOFFSETFROM:-0600
TZOFFSETTO:-0500
TZNAME:CDT
DTSTART:20240310T080000
END:DAYLIGHT
BEGIN:STANDARD
TZOFFSETFROM:-0500
TZOFFSETTO:-0600
TZNAME:CST
DTSTART:20241103T070000
END:STANDARD
BEGIN:DAYLIGHT
TZOFFSETFROM:-0600
TZOFFSETTO:-0500
TZNAME:CDT
DTSTART:20250309T080000
END:DAYLIGHT
BEGIN:STANDARD
TZOFFSETFROM:-0500
TZOFFSETTO:-0600
TZNAME:CST
DTSTART:20251102T070000
END:STANDARD
BEGIN:DAYLIGHT
TZOFFSETFROM:-0600
TZOFFSETTO:-0500
TZNAME:CDT
DTSTART:20260308T080000
END:DAYLIGHT
BEGIN:STANDARD
TZOFFSETFROM:-0500
TZOFFSETTO:-0600
TZNAME:CST
DTSTART:20261101T070000
END:STANDARD
END:VTIMEZONE
BEGIN:VEVENT
DTSTART;VALUE=DATE:20250613
DTEND;VALUE=DATE:20250618
DTSTAMP:20260420T133435
CREATED:20241217T172931Z
LAST-MODIFIED:20250520T190001Z
UID:10000065-1749772800-1750204799@www.usyouthsoccer.org
SUMMARY:2025 Far West Presidents Cup
DESCRIPTION:Location: Simplot Sports Complex\, 2437 E Lake Forest Drive\, Boise\, ID\, 83716 \nPlease visit the 2025 Far West Regional Presidents Cup webpage for more information. \nMore than 130 teams to compete June 13-17 at the 2025 Far West Presidents Cup in Boise\, Idaho. Games will played at the Simplot Sports Complex with a trip to National Presidents Cup on the line. \nThe US Youth Soccer Presidents Cup is designed for those teams seeking additional challenges to play against teams of similar abilities for a national title. The US Youth Soccer Presidents Cup provides a progressive\, competitive experience to teams that might not otherwise get the opportunity to participate in a series of unique experiences highlighting competition\, camaraderie and community from the state to regional to national levels of US Youth Soccer. \nUS Youth Soccer Regional Presidents Cup events will determine the regional qualifiers that will compete in the US Youth Soccer National Presidents Cup. Regional winners in the 13U through 19U groups\, both boys and girls\, will vie for the national title.
URL:https://www.usyouthsoccer.org/event/2025-far-west-presidents-cup/
LOCATION:Simplot Sports Complex\, 2437 E Lake Forest Drive\, Boise\, ID\, 83716
CATEGORIES:Presidents Cup,West Region
ATTACH;FMTTYPE=image/jpeg:https://www.usyouthsoccer.org/wp-content/uploads/sites/160/2024/12/FARWEST-PCUP-EVENT-CARD.jpg
END:VEVENT
END:VCALENDAR