BEGIN:VCALENDAR
VERSION:2.0
PRODID:-//US Youth Soccer - ECPv6.15.17.1//NONSGML v1.0//EN
CALSCALE:GREGORIAN
METHOD:PUBLISH
X-WR-CALNAME:US Youth Soccer
X-ORIGINAL-URL:https://www.usyouthsoccer.org
X-WR-CALDESC:Events for US Youth Soccer
REFRESH-INTERVAL;VALUE=DURATION:PT1H
X-Robots-Tag:noindex
X-PUBLISHED-TTL:PT1H
BEGIN:VTIMEZONE
TZID:America/North_Dakota/New_Salem
BEGIN:DAYLIGHT
TZOFFSETFROM:-0600
TZOFFSETTO:-0500
TZNAME:CDT
DTSTART:20240310T080000
END:DAYLIGHT
BEGIN:STANDARD
TZOFFSETFROM:-0500
TZOFFSETTO:-0600
TZNAME:CST
DTSTART:20241103T070000
END:STANDARD
BEGIN:DAYLIGHT
TZOFFSETFROM:-0600
TZOFFSETTO:-0500
TZNAME:CDT
DTSTART:20250309T080000
END:DAYLIGHT
BEGIN:STANDARD
TZOFFSETFROM:-0500
TZOFFSETTO:-0600
TZNAME:CST
DTSTART:20251102T070000
END:STANDARD
BEGIN:DAYLIGHT
TZOFFSETFROM:-0600
TZOFFSETTO:-0500
TZNAME:CDT
DTSTART:20260308T080000
END:DAYLIGHT
BEGIN:STANDARD
TZOFFSETFROM:-0500
TZOFFSETTO:-0600
TZNAME:CST
DTSTART:20261101T070000
END:STANDARD
END:VTIMEZONE
BEGIN:VEVENT
DTSTART;TZID=America/North_Dakota/New_Salem:20250706T080000
DTEND;TZID=America/North_Dakota/New_Salem:20250713T170000
DTSTAMP:20260420T133535
CREATED:20250612T182231Z
LAST-MODIFIED:20250612T182231Z
UID:10000081-1751788800-1752426000@www.usyouthsoccer.org
SUMMARY:ODP WEST REGION SUMMER ID
DESCRIPTION:Congratulations\, you have been selected to participate in the US Youth Soccer ODP West Summer ID Event being held in Salt Lake City\, UT.    \n    \nGirls Session: July 6 – 8\, 2025  \nBoys Session: July 11 – 13\, 2025  \n   \nReal Salt Lake   \n14787 Academy Pkwy \nHerriman\, UT 84096 \nUnited States  
URL:https://www.usyouthsoccer.org/event/odp-west-region-summer-id/
CATEGORIES:ODP,West Region
ATTACH;FMTTYPE=image/jpeg:https://www.usyouthsoccer.org/wp-content/uploads/sites/160/2025/06/west.jpg
END:VEVENT
END:VCALENDAR