BEGIN:VCALENDAR
VERSION:2.0
PRODID:-//US Youth Soccer - ECPv6.15.17.1//NONSGML v1.0//EN
CALSCALE:GREGORIAN
METHOD:PUBLISH
X-WR-CALNAME:US Youth Soccer
X-ORIGINAL-URL:https://www.usyouthsoccer.org
X-WR-CALDESC:Events for US Youth Soccer
REFRESH-INTERVAL;VALUE=DURATION:PT1H
X-Robots-Tag:noindex
X-PUBLISHED-TTL:PT1H
BEGIN:VTIMEZONE
TZID:America/North_Dakota/New_Salem
BEGIN:DAYLIGHT
TZOFFSETFROM:-0600
TZOFFSETTO:-0500
TZNAME:CDT
DTSTART:20250309T080000
END:DAYLIGHT
BEGIN:STANDARD
TZOFFSETFROM:-0500
TZOFFSETTO:-0600
TZNAME:CST
DTSTART:20251102T070000
END:STANDARD
BEGIN:DAYLIGHT
TZOFFSETFROM:-0600
TZOFFSETTO:-0500
TZNAME:CDT
DTSTART:20260308T080000
END:DAYLIGHT
BEGIN:STANDARD
TZOFFSETFROM:-0500
TZOFFSETTO:-0600
TZNAME:CST
DTSTART:20261101T070000
END:STANDARD
BEGIN:DAYLIGHT
TZOFFSETFROM:-0600
TZOFFSETTO:-0500
TZNAME:CDT
DTSTART:20270314T080000
END:DAYLIGHT
BEGIN:STANDARD
TZOFFSETFROM:-0500
TZOFFSETTO:-0600
TZNAME:CST
DTSTART:20271107T070000
END:STANDARD
END:VTIMEZONE
BEGIN:VTIMEZONE
TZID:America/New_York
BEGIN:DAYLIGHT
TZOFFSETFROM:-0500
TZOFFSETTO:-0400
TZNAME:EDT
DTSTART:20250309T070000
END:DAYLIGHT
BEGIN:STANDARD
TZOFFSETFROM:-0400
TZOFFSETTO:-0500
TZNAME:EST
DTSTART:20251102T060000
END:STANDARD
BEGIN:DAYLIGHT
TZOFFSETFROM:-0500
TZOFFSETTO:-0400
TZNAME:EDT
DTSTART:20260308T070000
END:DAYLIGHT
BEGIN:STANDARD
TZOFFSETFROM:-0400
TZOFFSETTO:-0500
TZNAME:EST
DTSTART:20261101T060000
END:STANDARD
BEGIN:DAYLIGHT
TZOFFSETFROM:-0500
TZOFFSETTO:-0400
TZNAME:EDT
DTSTART:20270314T070000
END:DAYLIGHT
BEGIN:STANDARD
TZOFFSETFROM:-0400
TZOFFSETTO:-0500
TZNAME:EST
DTSTART:20271107T060000
END:STANDARD
END:VTIMEZONE
BEGIN:VTIMEZONE
TZID:America/Phoenix
BEGIN:STANDARD
TZOFFSETFROM:-0700
TZOFFSETTO:-0700
TZNAME:MST
DTSTART:20250101T000000
END:STANDARD
END:VTIMEZONE
BEGIN:VTIMEZONE
TZID:America/Boise
BEGIN:DAYLIGHT
TZOFFSETFROM:-0700
TZOFFSETTO:-0600
TZNAME:MDT
DTSTART:20250309T090000
END:DAYLIGHT
BEGIN:STANDARD
TZOFFSETFROM:-0600
TZOFFSETTO:-0700
TZNAME:MST
DTSTART:20251102T080000
END:STANDARD
BEGIN:DAYLIGHT
TZOFFSETFROM:-0700
TZOFFSETTO:-0600
TZNAME:MDT
DTSTART:20260308T090000
END:DAYLIGHT
BEGIN:STANDARD
TZOFFSETFROM:-0600
TZOFFSETTO:-0700
TZNAME:MST
DTSTART:20261101T080000
END:STANDARD
BEGIN:DAYLIGHT
TZOFFSETFROM:-0700
TZOFFSETTO:-0600
TZNAME:MDT
DTSTART:20270314T090000
END:DAYLIGHT
BEGIN:STANDARD
TZOFFSETFROM:-0600
TZOFFSETTO:-0700
TZNAME:MST
DTSTART:20271107T080000
END:STANDARD
END:VTIMEZONE
BEGIN:VEVENT
DTSTART;VALUE=DATE:20260114
DTEND;VALUE=DATE:20260118
DTSTAMP:20260423T053950
CREATED:20251205T174134Z
LAST-MODIFIED:20260112T192030Z
UID:10000093-1768348800-1768694399@www.usyouthsoccer.org
SUMMARY:2026 US Youth Soccer Workshop
DESCRIPTION:2026 US Youth Soccer Workshop at the United Soccer Coaches Convention\nBelow is the schedule for Wednesday\, Thursday\, Friday\, and Saturday (January 14-17) in Philadelphia\, PA.* \n*All items are subject to change \n\nWednesday\n\n\n5:00-8:00 PM\nWelcome Social\nF1 Arcade Philadelphia\n1330 Chestnut St\, Philadelphia\, PA 19107\n\n \nThursday\n\n\n9:00 AM – 10:00 AM\nSouth Regional Council Meeting\nCC 113B\n\n\n  \n\n9:00 AM – 10:00 AM\nMidwest Regional Council Meeting\nCC 113A\n\n\n  \n\n11:00 AM – 12:00 PM\nWorld Cup 2026\nPhiladelphia 2026 Host Committee\nCC 113AB\n\n\n  \n\n12:00 PM – 1:00 PM\nLunch*\n*On your own\n\n\n  \n\n1:00 PM – 1:15 PM\nWelcome from US Youth Soccer and New Balance\nTom Condone\, Tina Rincon\, and Rebeka Rothmeier\nCC 113AB\n\n\n  \n\n1:15 PM – 2:00 PM\nUS Soccer-USYS-US Club Soccer Competitions Panel\nUS Soccer\nCC 113AB\n\n\n  \n\n2:00 PM – 2:30 PM\nMeasuring Success of State Associations\nUS Youth Soccer\nCC 113AB\n\n\n  \n\n2:45 PM – 3:15 PM\nUS Soccer Shared Services Updates and Strategy\nUS Soccer\nCC 113AB\n\n\n  \n\n2:30 PM – 3:45 PM\nA Skill Acquisition Framework for Excellence in Soccer\nTechnical Session – Mark Williams – FIFA*\nCC 113C\n*Only for State Association Technical Leaders*\n\n  \n\n3:30 PM – 4:30 PM\nCulture by Design: How to Build It\, Live It & Scale It\nMatt Young\nCC 113AB\n\n\n  \n\n4:00 PM – 5:15 PM\nDeveloping the Player in General and Goalplayer in Particular\nTechnical Session- Frans Hoek*\nCC 113C\n*Only for State Association Technical Leaders*\n\n  \n\n4:30 PM – 6:30 PM\nHappy Hour\nNear CC 113C\n\n\n \nFriday\n\n\n9:30 AM – 10:45 AM\nDiversifying Revenue\nJess Yeager- USYS Board of Directors\nCC 110A\n\n\n  \n\n9:30 AM – 10:45 AM\nFundraising – Proven Professional Tactics to Finance Your Club’s Initiatives\nPatrick Sampson – COGEO\nCC 110B\n\n\n  \n\n9:30 AM – 10:45 AM\nUS Youth Soccer CPD – Game intelligence in soccer\nMark Williams – Scientific Contributor to FIFA Education\nCC 112A\n\n\n  \n\n9:30 AM – 10:45 AM\nModernized Movement: How Modern Screening and ID Verification Strengthen Safeguarding\nKyle Garner\, Kirk Noethe\, Sebastian Mellen- JDP\nCC 112B\n\n\n  \n\n11:00 AM – 12:15 PM\nThe US Center for SafeSport – Context Before Content: Safeguarding for Sustainable Change\nMonica Rivera – US Center for SafeSport\nCC 110A\n\n\n  \n\n11:00 AM – 12:15 PM\nPLAYER vs PERSON – Your guide to holistic development for your athletes\nJay DeMerit- RISExSHINE\nCC 110B\n\n\n  \n\n11:00 AM – 12:15 PM\nUS Youth Soccer CPD – Talent ID\nMark Williams- Scientific Contributor to FIFA Education\nCC 112A\n\n\n  \n\n11:00 AM – 12:15 PM\nProtect the Players: Injury Prevention through Strategic Health Partnerships\nConnor Duscha & New York Red Bulls Academy Coaches\nCC 112B\n\n\n  \n\n1:30 PM – 2:45 PM\nLeading in Safeguarding\nDesiree Bartosiak (US Soccer) and Mary Relic (USYS Safeguarding Chair)\nCC 110A\n\n\n  \n\n1:30 PM – 2:45 PM\nThe Future of Video Technology\nHenrik Teisbæk (VEO) and Barry Ritson (LA Surf)\nCC 110B\n\n\n  \n\n1:30 PM – 2:45 PM\nLeveraging Technology to WIN in Recruiting\nSue Webber- NCSA\nCC 112A\n\n\n  \n\n1:30 PM – 2:45 PM\nPlayer Experience: Data Driven Insights and Actions\nAdam Kuhn- Satori Soccer\nCC 112B\n\n\n  \n\n3:00 PM – 4:15 PM\nReal Claims. Real Risks. Practical Solutions for Safer Soccer\nDan Pullen (Player Health)\, Sarah Puntel (Alive Risk)\, Joel Dragan (USYS)\nCC 110A\n\n\n  \n\n3:00 PM – 4:15 PM\nHealth & Wellbeing in Youth Sports\nSteve Zakuani (Roundglass Living\, Retired MLS Player)\nCC 110B\n\n\n  \n\n3:00 PM – 4:15 PM\nNo Sideline Slipups\nDaniel Radford- USYS\nCC 112A\n\n\n  \n\n3:00 PM – 4:15 PM\nSupporting Positive Behavior through Responsive Coaching\nIain Martin – Positive Coaching Alliance\nCC 112B\n\n\n  \n\n5:30 PM – 8:00 PM\nWISE Social\nPresented by USYS\, Player Data and WAGS\nThe Notary- Juniper Ballroom\n\n\n \nSaturday\n\n\n9:30 AM – 10:45 AM\nAppeals – The Power of Due Process\nKathy Zolad (US Soccer Appeals Chair)\, Flo Egan (New York West)\, Greg Fike (US Soccer)\nCC 110A\n\n\n  \n\n9:30 AM – 10:45 AM\nUS Youth Soccer CPD: Providing (Student) Coach Feedback\nTim Bradbury – Eastern New York\nCC 110B\n\n\n  \n\n9:30 AM – 10:45 AM\nThe Sideline Project: Your Fast Track to Improved Sideline Behavior\nAnthony DiCicco and Skye Eddie- Soccer Parenting\nCC 112A\n\n\n  \n\n9:30 AM – 10:45 AM\nGrassroots Referee Working Group Presentation\nDaniel Radford- USYS\nCC 112B\n\n\n  \n\n11:00 AM – 12:15 PM\nTrauma-Informed Communication – Presentation Summary\nJessica St. Germaine- RAINN\nCC 110A\n\n\n  \n\n11:00 AM – 12:15 PM\nRound-Table: Changing the Game (Format) for 4-6-year-olds\nTom Condone\, Vince Ganzberg\, Scott Snyder\, Zac Crawford\nCC 110B\n\n\n  \n\n11:00 AM – 12:15 PM\nAligning the online education ecosystem\nCameron Oriordan- EtrainU\nCC 112A\n\n\n  \n\n11:00 AM – 12:15 PM\nReferee Abuse Prevention (RAP) Understanding and Implementing the Policy\nDaniel Radford (USYS) & Cassandra Sistrunk (US Soccer)\nCC 112B
URL:https://www.usyouthsoccer.org/event/2026-us-youth-soccer-workshop/
CATEGORIES:US Youth Soccer
ATTACH;FMTTYPE=image/jpeg:https://www.usyouthsoccer.org/wp-content/uploads/sites/160/2023/05/USYS-styled-event-image.jpg
END:VEVENT
BEGIN:VEVENT
DTSTART;VALUE=DATE:20260115
DTEND;VALUE=DATE:20260120
DTSTAMP:20260423T053950
CREATED:20250819T174022Z
LAST-MODIFIED:20251024T183419Z
UID:10000091-1768435200-1768867199@www.usyouthsoccer.org
SUMMARY:ODP Interregionals (Boys)
DESCRIPTION:
URL:https://www.usyouthsoccer.org/event/odp-interregionals-boys/
LOCATION:ChampionsGate Sports Field Complex\, 1500 Masters Boulevard\, ChampionsGate\, FL\, 33896\, United States
CATEGORIES:ODP
ATTACH;FMTTYPE=image/png:https://www.usyouthsoccer.org/wp-content/uploads/sites/160/2025/08/ODP-Events.png
END:VEVENT
BEGIN:VEVENT
DTSTART;VALUE=DATE:20260122
DTEND;VALUE=DATE:20260127
DTSTAMP:20260423T053950
CREATED:20250819T174115Z
LAST-MODIFIED:20250819T174115Z
UID:10000092-1769040000-1769471999@www.usyouthsoccer.org
SUMMARY:ODP Interregionals (Girls)
DESCRIPTION:
URL:https://www.usyouthsoccer.org/event/odp-interregionals-girls/
LOCATION:ChampionsGate Sports Field Complex\, 1500 Masters Boulevard\, ChampionsGate\, FL\, 33896\, United States
CATEGORIES:ODP
ATTACH;FMTTYPE=image/png:https://www.usyouthsoccer.org/wp-content/uploads/sites/160/2025/08/ODP-Events.png
END:VEVENT
BEGIN:VEVENT
DTSTART;VALUE=DATE:20260130
DTEND;VALUE=DATE:20260202
DTSTAMP:20260423T053950
CREATED:20250819T170816Z
LAST-MODIFIED:20250819T170816Z
UID:10000085-1769731200-1769990399@www.usyouthsoccer.org
SUMMARY:National League Winter Event
DESCRIPTION:
URL:https://www.usyouthsoccer.org/event/national-league-winter-event/
LOCATION:Arizona Athletic Grounds\, 6321 S Ellsworth Rd\, Mesa\, AZ\, 85212\, United States
CATEGORIES:National League
ATTACH;FMTTYPE=image/png:https://www.usyouthsoccer.org/wp-content/uploads/sites/160/2025/08/NL-Events.png
END:VEVENT
BEGIN:VEVENT
DTSTART;VALUE=DATE:20260611
DTEND;VALUE=DATE:20260615
DTSTAMP:20260423T053950
CREATED:20260421T185511Z
LAST-MODIFIED:20260421T185511Z
UID:10000095-1781136000-1781481599@www.usyouthsoccer.org
SUMMARY:2026 Mid Atlantic Presidents Cup
DESCRIPTION:Mid Atlantic Presidents Cup \nDate: June 11 – June 14\, 2026 \nLocation: Loudoun County\, VA \nAge Groups: 13-19U Boys & Girls \nEvent webpage: https://www.usyouthsoccer.org/mid-atlantic-presidents-cup
URL:https://www.usyouthsoccer.org/event/2026-mid-atlantic-presidents-cup/
CATEGORIES:Presidents Cup,US Youth Soccer
ATTACH;FMTTYPE=image/gif:https://www.usyouthsoccer.org/wp-content/uploads/sites/160/2026/04/PC_Events2026_1920x1080.gif
END:VEVENT
BEGIN:VEVENT
DTSTART;VALUE=DATE:20260611
DTEND;VALUE=DATE:20260615
DTSTAMP:20260423T053950
CREATED:20260421T185703Z
LAST-MODIFIED:20260421T185703Z
UID:10000096-1781136000-1781481599@www.usyouthsoccer.org
SUMMARY:2026 North Central Presidents Cup
DESCRIPTION:North Central Presidents Cup \nDate: June 11 – June 14\, 2026 \nLocation: Des Moines\, IA \nAge Groups: 13-19U Boys & Girls \nEvent webpage: https://www.usyouthsoccer.org/north-central-presidents-cup/
URL:https://www.usyouthsoccer.org/event/2026-north-central-presidents-cup/
CATEGORIES:Presidents Cup,US Youth Soccer
ATTACH;FMTTYPE=image/gif:https://www.usyouthsoccer.org/wp-content/uploads/sites/160/2026/04/PC_Events2026_1920x1080.gif
END:VEVENT
BEGIN:VEVENT
DTSTART;VALUE=DATE:20260611
DTEND;VALUE=DATE:20260615
DTSTAMP:20260423T053950
CREATED:20260421T185859Z
LAST-MODIFIED:20260421T185859Z
UID:10000097-1781136000-1781481599@www.usyouthsoccer.org
SUMMARY:2026 Great Lakes Presidents Cup
DESCRIPTION:Great Lakes Presidents Cup \nDate: June 11 – June 14\, 2026 \nLocation: Grand Park\, IN \nAge Groups: 13-19U Boys & Girls \nEvent webpage: https://www.usyouthsoccer.org/great-lakes-presidents-cup/
URL:https://www.usyouthsoccer.org/event/2026-great-lakes-presidents-cup/
CATEGORIES:Presidents Cup,US Youth Soccer
ATTACH;FMTTYPE=image/gif:https://www.usyouthsoccer.org/wp-content/uploads/sites/160/2026/04/PC_Events2026_1920x1080.gif
END:VEVENT
BEGIN:VEVENT
DTSTART;VALUE=DATE:20260611
DTEND;VALUE=DATE:20260615
DTSTAMP:20260423T053950
CREATED:20260421T190402Z
LAST-MODIFIED:20260421T190402Z
UID:10000099-1781136000-1781481599@www.usyouthsoccer.org
SUMMARY:2026 South Central Presidents Cup
DESCRIPTION:South Central Presidents Cup \nDate: June 11 – June 14\, 2026 \nLocation: Round Rock\, TX \nAge Groups: 13-19U Boys & Girls \nEvent webpage: https://www.usyouthsoccer.org/south-central-presidents-cup/
URL:https://www.usyouthsoccer.org/event/2026-south-central-presidents-cup/
CATEGORIES:Presidents Cup,US Youth Soccer
ATTACH;FMTTYPE=image/gif:https://www.usyouthsoccer.org/wp-content/uploads/sites/160/2026/04/PC_Events2026_1920x1080.gif
END:VEVENT
BEGIN:VEVENT
DTSTART;VALUE=DATE:20260612
DTEND;VALUE=DATE:20260615
DTSTAMP:20260423T053950
CREATED:20250819T171622Z
LAST-MODIFIED:20250819T171622Z
UID:10000086-1781222400-1781481599@www.usyouthsoccer.org
SUMMARY:NL Cup (Southeast Playoffs)
DESCRIPTION:
URL:https://www.usyouthsoccer.org/event/nl-cup-southeast-playoffs/
LOCATION:Bryan Park Truist Soccer Complex\, 6105 Townsend Road\, Browns Summit\, NC\, 27214\, United States
CATEGORIES:National League
ATTACH;FMTTYPE=image/png:https://www.usyouthsoccer.org/wp-content/uploads/sites/160/2025/08/NL-Events.png
END:VEVENT
BEGIN:VEVENT
DTSTART;VALUE=DATE:20260612
DTEND;VALUE=DATE:20260615
DTSTAMP:20260423T053950
CREATED:20250819T172504Z
LAST-MODIFIED:20250819T172709Z
UID:10000087-1781222400-1781481599@www.usyouthsoccer.org
SUMMARY:NL Cup (Southwest Playoffs)
DESCRIPTION:
URL:https://www.usyouthsoccer.org/event/nl-cup-southwest-playoffs/
LOCATION:Epic Sports Park\, 1200 Epic Lane\, Provo\, UT\, 84601\, United States
CATEGORIES:National League
ATTACH;FMTTYPE=image/png:https://www.usyouthsoccer.org/wp-content/uploads/sites/160/2025/08/NL-Events.png
END:VEVENT
BEGIN:VEVENT
DTSTART;VALUE=DATE:20260618
DTEND;VALUE=DATE:20260622
DTSTAMP:20260423T053950
CREATED:20260421T185258Z
LAST-MODIFIED:20260421T185258Z
UID:10000094-1781740800-1782086399@www.usyouthsoccer.org
SUMMARY:2026 Northeast Presidents Cup
DESCRIPTION:Northeast Presidents Cup \n\n\n\n\n\n\n\n\nDates: June 18 – June 21\, 2026 \nLocation: Simsbury\, CT \nAge Groups: 12-19U Boys & Girls \nEvent webpage: https://www.usyouthsoccer.org/northeast-presidents-cup
URL:https://www.usyouthsoccer.org/event/2026-northeast-presidents-cup/
CATEGORIES:Presidents Cup,US Youth Soccer
ATTACH;FMTTYPE=image/gif:https://www.usyouthsoccer.org/wp-content/uploads/sites/160/2026/04/PC_Events2026_1920x1080.gif
END:VEVENT
BEGIN:VEVENT
DTSTART;VALUE=DATE:20260618
DTEND;VALUE=DATE:20260622
DTSTAMP:20260423T053950
CREATED:20260421T190714Z
LAST-MODIFIED:20260421T190714Z
UID:10000101-1781740800-1782086399@www.usyouthsoccer.org
SUMMARY:2026 Western Presidents Cup
DESCRIPTION:Western Presidents Cup \nDate: June 18 – June 21\, 2026 \nLocation: Salt Lake City\, UT \nAge Groups: 12-19U Boys & Girls \nEvent webpage: https://www.usyouthsoccer.org/western-presidents-cup/
URL:https://www.usyouthsoccer.org/event/2026-western-presidents-cup/
CATEGORIES:Presidents Cup,US Youth Soccer
ATTACH;FMTTYPE=image/gif:https://www.usyouthsoccer.org/wp-content/uploads/sites/160/2026/04/PC_Events2026_1920x1080.gif
END:VEVENT
BEGIN:VEVENT
DTSTART;VALUE=DATE:20260619
DTEND;VALUE=DATE:20260622
DTSTAMP:20260423T053950
CREATED:20250819T172634Z
LAST-MODIFIED:20250819T172634Z
UID:10000088-1781827200-1782086399@www.usyouthsoccer.org
SUMMARY:NL Cup (Northeast Playoffs)
DESCRIPTION:
URL:https://www.usyouthsoccer.org/event/nl-cup-northeast-playoffs/
LOCATION:Publix Virginia Soccer Training Center\, 10201 United Ave\, Fredericksburg\, VA\, 22408\, United States
CATEGORIES:National League
ATTACH;FMTTYPE=image/png:https://www.usyouthsoccer.org/wp-content/uploads/sites/160/2025/08/NL-Events.png
END:VEVENT
BEGIN:VEVENT
DTSTART;VALUE=DATE:20260619
DTEND;VALUE=DATE:20260622
DTSTAMP:20260423T053950
CREATED:20250819T173232Z
LAST-MODIFIED:20250819T173232Z
UID:10000089-1781827200-1782086399@www.usyouthsoccer.org
SUMMARY:NL Cup (Northwest Playoffs)
DESCRIPTION:
URL:https://www.usyouthsoccer.org/event/nl-cup-northwest-playoffs/
LOCATION:Epic Sports Park\, 1200 Epic Lane\, Provo\, UT\, 84601\, United States
CATEGORIES:National League
ATTACH;FMTTYPE=image/png:https://www.usyouthsoccer.org/wp-content/uploads/sites/160/2025/08/NL-Events.png
END:VEVENT
BEGIN:VEVENT
DTSTART;VALUE=DATE:20260619
DTEND;VALUE=DATE:20260623
DTSTAMP:20260423T053950
CREATED:20260421T190201Z
LAST-MODIFIED:20260421T190201Z
UID:10000098-1781827200-1782172799@www.usyouthsoccer.org
SUMMARY:2026 Southeast Presidents Cup
DESCRIPTION:Southeast Presidents Cup \nDate: June 19 – June 22\, 2026 \nLocation: Auburndale\, FL \nAge Groups: 13-19U Boys & Girls \nEvent webpage: https://www.usyouthsoccer.org/southeast-presidents-cup/
URL:https://www.usyouthsoccer.org/event/2026-southeast-presidents-cup/
CATEGORIES:Presidents Cup,US Youth Soccer
ATTACH;FMTTYPE=image/gif:https://www.usyouthsoccer.org/wp-content/uploads/sites/160/2026/04/PC_Events2026_1920x1080.gif
END:VEVENT
BEGIN:VEVENT
DTSTART;VALUE=DATE:20260619
DTEND;VALUE=DATE:20260624
DTSTAMP:20260423T053950
CREATED:20260421T190542Z
LAST-MODIFIED:20260421T190542Z
UID:10000100-1781827200-1782259199@www.usyouthsoccer.org
SUMMARY:2026 Northwest Presidents Cup
DESCRIPTION:Northwest Presidents Cup \nDate: June 19 – June 22\, 2026 \nLocation: Boise\, ID \nAge Groups: 13-19U Boys & Girls \nEvent webpage: https://www.usyouthsoccer.org/northwest-presidents-cup/
URL:https://www.usyouthsoccer.org/event/2026-northwest-presidents-cup/
CATEGORIES:Presidents Cup,US Youth Soccer
ATTACH;FMTTYPE=image/gif:https://www.usyouthsoccer.org/wp-content/uploads/sites/160/2026/04/PC_Events2026_1920x1080.gif
END:VEVENT
BEGIN:VEVENT
DTSTART;VALUE=DATE:20260707
DTEND;VALUE=DATE:20260710
DTSTAMP:20260423T053950
CREATED:20250819T173425Z
LAST-MODIFIED:20250819T173425Z
UID:10000090-1783382400-1783641599@www.usyouthsoccer.org
SUMMARY:NL Cup (Finals)
DESCRIPTION:
URL:https://www.usyouthsoccer.org/event/nl-cup-finals/
LOCATION:Creve Coeur Park Soccer Complex\, 2350 Creve Coeur Mill Rd\, St. Louis\, MO\, 63146
CATEGORIES:National League
ATTACH;FMTTYPE=image/png:https://www.usyouthsoccer.org/wp-content/uploads/sites/160/2025/08/NL-Events.png
END:VEVENT
BEGIN:VEVENT
DTSTART;VALUE=DATE:20260713
DTEND;VALUE=DATE:20260724
DTSTAMP:20260423T053950
CREATED:20260422T185208Z
LAST-MODIFIED:20260422T185208Z
UID:10000102-1783900800-1784851199@www.usyouthsoccer.org
SUMMARY:2026 US Youth Soccer National Championships (Boys)
DESCRIPTION:2026 US Youth Soccer National Championships (Boys)\, presented by New York Life \nAge Groups: 13U-19U Boys \nDates: July 13-23\, 2026 \nLocation: Salt Lake City & Provo\, UT \nEvent page: https://www.usyouthsoccer.org/national-championships-boys/
URL:https://www.usyouthsoccer.org/event/2026-us-youth-soccer-national-championships-boys/
CATEGORIES:National Championships,US Youth Soccer
ATTACH;FMTTYPE=image/png:https://www.usyouthsoccer.org/wp-content/uploads/sites/160/2026/04/NC-2026_1920x1080.png
END:VEVENT
BEGIN:VEVENT
DTSTART;VALUE=DATE:20260713
DTEND;VALUE=DATE:20260724
DTSTAMP:20260423T053950
CREATED:20260422T185423Z
LAST-MODIFIED:20260422T185448Z
UID:10000103-1783900800-1784851199@www.usyouthsoccer.org
SUMMARY:2026 US Youth Soccer National Championships (Girls)
DESCRIPTION:2026 US Youth Soccer National Championships (Girls)\, presented by New York Life \nAge Groups: 13U-19U Girls \nDates: July 13-23\, 2026 \nLocation: Murfreesboro & Smyrna\, TN \nEvent page: https://www.usyouthsoccer.org/national-championships-girls/
URL:https://www.usyouthsoccer.org/event/us-youth-soccer-national-championships-girls/
CATEGORIES:National Championships,US Youth Soccer
ATTACH;FMTTYPE=image/png:https://www.usyouthsoccer.org/wp-content/uploads/sites/160/2026/04/NC-2026_1920x1080.png
END:VEVENT
END:VCALENDAR